BEGIN:VCALENDAR
VERSION:2.0
PRODID:-//Special Needs Trust Program - ECPv6.15.20//NONSGML v1.0//EN
CALSCALE:GREGORIAN
METHOD:PUBLISH
X-WR-CALNAME:Special Needs Trust Program
X-ORIGINAL-URL:https://thearcofnovatrust.org
X-WR-CALDESC:Events for Special Needs Trust Program
REFRESH-INTERVAL;VALUE=DURATION:PT1H
X-Robots-Tag:noindex
X-PUBLISHED-TTL:PT1H
BEGIN:VTIMEZONE
TZID:UTC
BEGIN:STANDARD
TZOFFSETFROM:+0000
TZOFFSETTO:+0000
TZNAME:UTC
DTSTART:20170101T000000
END:STANDARD
END:VTIMEZONE
BEGIN:VEVENT
DTSTART;TZID=UTC:20180828T100000
DTEND;TZID=UTC:20180828T113000
DTSTAMP:20260420T195521
CREATED:20180604T223138Z
LAST-MODIFIED:20180604T223138Z
UID:1906-1535450400-1535455800@thearcofnovatrust.org
SUMMARY:Trust Talk Tuesday - August 28
DESCRIPTION:These group discussions will focus on Special Needs Trusts. Tia Marsili\, Director of Trusts\, The Arc of Northern Virginia\, will walk you through the importance of planning for the future of your loved one with a disability\, why trusts are important\, and other critical services and programs that you should consider. \n  \nPlease register here.
URL:https://thearcofnovatrust.org/event/trust-talk-tuesday-august-28/
LOCATION:The Arc of Northern Virginia\, 3060 Williams Drive\, Suite 300\, Fairfax\, VA\, 22031\, United States
CATEGORIES:Trust Talk Tuesday
ORGANIZER;CN="Allie Shelby":MAILTO:front.desk@thearcofnova.org
END:VEVENT
END:VCALENDAR