BEGIN:VCALENDAR
VERSION:2.0
PRODID:-//Special Needs Trust Program - ECPv6.15.20//NONSGML v1.0//EN
CALSCALE:GREGORIAN
METHOD:PUBLISH
X-WR-CALNAME:Special Needs Trust Program
X-ORIGINAL-URL:https://thearcofnovatrust.org
X-WR-CALDESC:Events for Special Needs Trust Program
REFRESH-INTERVAL;VALUE=DURATION:PT1H
X-Robots-Tag:noindex
X-PUBLISHED-TTL:PT1H
BEGIN:VTIMEZONE
TZID:America/New_York
BEGIN:DAYLIGHT
TZOFFSETFROM:-0500
TZOFFSETTO:-0400
TZNAME:EDT
DTSTART:20180311T070000
END:DAYLIGHT
BEGIN:STANDARD
TZOFFSETFROM:-0400
TZOFFSETTO:-0500
TZNAME:EST
DTSTART:20181104T060000
END:STANDARD
BEGIN:DAYLIGHT
TZOFFSETFROM:-0500
TZOFFSETTO:-0400
TZNAME:EDT
DTSTART:20190310T070000
END:DAYLIGHT
BEGIN:STANDARD
TZOFFSETFROM:-0400
TZOFFSETTO:-0500
TZNAME:EST
DTSTART:20191103T060000
END:STANDARD
BEGIN:DAYLIGHT
TZOFFSETFROM:-0500
TZOFFSETTO:-0400
TZNAME:EDT
DTSTART:20200308T070000
END:DAYLIGHT
BEGIN:STANDARD
TZOFFSETFROM:-0400
TZOFFSETTO:-0500
TZNAME:EST
DTSTART:20201101T060000
END:STANDARD
END:VTIMEZONE
BEGIN:VEVENT
DTSTART;TZID=America/New_York:20190201T100000
DTEND;TZID=America/New_York:20190201T120000
DTSTAMP:20260420T125157
CREATED:20190108T212441Z
LAST-MODIFIED:20190108T212441Z
UID:2421-1549015200-1549022400@thearcofnovatrust.org
SUMMARY:Transition to Employment Panel
DESCRIPTION:Transition to Employment Panel \nPresenters:   \nTyler Schreffler\, Unit Supervisor\, DARS \nSalsi Mane\, Director of Career Services\, Work Opportunities Unlimited \nAshley Welsh\, Program Manager\, Transition & Training Services\, \nMVLE representative \nMissy King\, Regional Director\, Career Support Systems \n  \nThis workshop/webinar will help families understand eligibility requirements and services offered by DARS (Department of Aging and Rehabilitative Services) both during high school and in the years after graduation.  Presenters from the employment service organizations will provide information on the services offered including individual and group supported employment\, as well as\, meaningful day support options. \n  \nRegister for the Workshop \n  \nCan’t make the workshop? Try a webinar! \nRegister for the Webinar \n  \nGood news! All of our FFFP presentations are recorded. So if you cannot attend the in-person session nor the webinar\, please register for the webinar so that we may have your email address on file. We will email you a link to download and watch the recording after the presentation has ended. \n 
URL:https://thearcofnovatrust.org/event/transition-to-employment-panel/
LOCATION:The Arc of NOVA\, 2755 Hartland Rd.\, Ste 200\, Falls Church\, VA\, VA\, 22043
CATEGORIES:First Fridays Futures Planning
ORGANIZER;CN="Allie Shelby":MAILTO:front.desk@thearcofnova.org
END:VEVENT
END:VCALENDAR