BEGIN:VCALENDAR
VERSION:2.0
PRODID:-//Special Needs Trust Program - ECPv6.15.20//NONSGML v1.0//EN
CALSCALE:GREGORIAN
METHOD:PUBLISH
X-WR-CALNAME:Special Needs Trust Program
X-ORIGINAL-URL:https://thearcofnovatrust.org
X-WR-CALDESC:Events for Special Needs Trust Program
REFRESH-INTERVAL;VALUE=DURATION:PT1H
X-Robots-Tag:noindex
X-PUBLISHED-TTL:PT1H
BEGIN:VTIMEZONE
TZID:America/New_York
BEGIN:DAYLIGHT
TZOFFSETFROM:-0500
TZOFFSETTO:-0400
TZNAME:EDT
DTSTART:20180311T070000
END:DAYLIGHT
BEGIN:STANDARD
TZOFFSETFROM:-0400
TZOFFSETTO:-0500
TZNAME:EST
DTSTART:20181104T060000
END:STANDARD
BEGIN:DAYLIGHT
TZOFFSETFROM:-0500
TZOFFSETTO:-0400
TZNAME:EDT
DTSTART:20190310T070000
END:DAYLIGHT
BEGIN:STANDARD
TZOFFSETFROM:-0400
TZOFFSETTO:-0500
TZNAME:EST
DTSTART:20191103T060000
END:STANDARD
BEGIN:DAYLIGHT
TZOFFSETFROM:-0500
TZOFFSETTO:-0400
TZNAME:EDT
DTSTART:20200308T070000
END:DAYLIGHT
BEGIN:STANDARD
TZOFFSETFROM:-0400
TZOFFSETTO:-0500
TZNAME:EST
DTSTART:20201101T060000
END:STANDARD
END:VTIMEZONE
BEGIN:VEVENT
DTSTART;TZID=America/New_York:20190320T100000
DTEND;TZID=America/New_York:20190320T140000
DTSTAMP:20260420T112708
CREATED:20190214T155010Z
LAST-MODIFIED:20190214T155010Z
UID:2452-1553076000-1553090400@thearcofnovatrust.org
SUMMARY:Can't Get to DMV? DMV is Coming to You!
DESCRIPTION:The Arc of Northern Virginia \n2755 Hartland Road Ste 200\, Falls Church\, VA 22043\nWednesday\, March 20\, 2019\nWalk-ins between 10AM – 2PM (no appointments needed)\nFor Questions\, please call 703-208-1119 Ext 101 \nDMV offers services for: \n\nDriver’s licenses\nID cards (adult\, child\, veteran)\nDisabled (handicap) parking placecards\nVehicle titles\nVehicle registrations\nE-ZPass transponders\nCompliance summaries\nTranscripts\nREAL IDs\n\nPlease bring the following for an ID or Driver’s License:\n\n\n\n\n\nProof of Legal Presence: U.S. Birth Certificate or unexpired U.S. Passport/ Green Card/ Foreign Passport with letters from Immigration\nProof of Social Security: Social Security Card/ W2/ Form 1099/ Medicare Card (w/SSN Visible)\nVA Drivers License or Out-of-State License\nTwo (2) Forms of Residency: Utility Bill/ Lease\, Deed\, Mortgage Statement/ Paystub/ Bank Statement/ Etc.\n\n\n\n\n\n\nAll documents MUST be the originals. NO photocopies will be accepted. Vision and photo services will be provided.\n\n\nPlease note for Real IDs\, they are an additional $10. This means an additional $10 to the regular fee. Those who are 74 and younger can pay $32 for a renewal\, $42 for a renewal with the Real ID credential for 8 years. Those aged 75 and above can renew at $20; $30 for renewal with Real ID credential for 5 years. Everyone renewing will take a vision exam (no matter their age) and have a new photo taken.
URL:https://thearcofnovatrust.org/event/cant-get-to-dmv-dmv-is-coming-to-you/
LOCATION:The Arc of NOVA\, 2755 Hartland Rd.\, Ste 200\, Falls Church\, VA\, VA\, 22043
ORGANIZER;CN="Allie Shelby":MAILTO:front.desk@thearcofnova.org
END:VEVENT
END:VCALENDAR