BEGIN:VCALENDAR
VERSION:2.0
PRODID:-//Special Needs Trust Program - ECPv6.15.20//NONSGML v1.0//EN
CALSCALE:GREGORIAN
METHOD:PUBLISH
X-WR-CALNAME:Special Needs Trust Program
X-ORIGINAL-URL:https://thearcofnovatrust.org
X-WR-CALDESC:Events for Special Needs Trust Program
REFRESH-INTERVAL;VALUE=DURATION:PT1H
X-Robots-Tag:noindex
X-PUBLISHED-TTL:PT1H
BEGIN:VTIMEZONE
TZID:UTC
BEGIN:STANDARD
TZOFFSETFROM:+0000
TZOFFSETTO:+0000
TZNAME:UTC
DTSTART:20170101T000000
END:STANDARD
END:VTIMEZONE
BEGIN:VEVENT
DTSTART;TZID=UTC:20180904T100000
DTEND;TZID=UTC:20180904T113000
DTSTAMP:20260420T184526
CREATED:20180604T223329Z
LAST-MODIFIED:20180604T223329Z
UID:1908-1536055200-1536060600@thearcofnovatrust.org
SUMMARY:Trust Talk Tuesday - September 4
DESCRIPTION:These group discussions will focus on Special Needs Trusts. Tia Marsili\, Director of Trusts\, The Arc of Northern Virginia\, will walk you through the importance of planning for the future of your loved one with a disability\, why trusts are important\, and other critical services and programs that you should consider. \n  \nPlease register here.
URL:https://thearcofnovatrust.org/event/trust-talk-tuesday-september-11/
LOCATION:The Arc of Northern Virginia\, 3060 Williams Drive\, Suite 300\, Fairfax\, VA\, 22031\, United States
CATEGORIES:Trust Talk Tuesday
ORGANIZER;CN="Allie Shelby":MAILTO:front.desk@thearcofnova.org
END:VEVENT
BEGIN:VEVENT
DTSTART;TZID=UTC:20180907T100000
DTEND;TZID=UTC:20180907T120000
DTSTAMP:20260420T184526
CREATED:20180710T184730Z
LAST-MODIFIED:20180710T184730Z
UID:1980-1536314400-1536321600@thearcofnovatrust.org
SUMMARY:Healthcare: What Options are Available for People with Disabilities?
DESCRIPTION:  \nHealthcare: What Options are Available for People with Disabilities? \nPresenters: Ann Bevan\, Director\, DMAS \n                         Teri Morgan\, Developmental Disabilities Program Manager\, DMAS \nAccess to health care is essential for people with disabilities. In this presentation\, learn about CCC+\, DDW changes\, EPSDT\, federal policy (a lot of acronyms\, right?). What options are available from Medicaid\, to Medicare\, to private health insurance through the Affordable Care Act\, to GAP Insurance in Virginia to resources for individuals otherwise ineligible for these programs? \n  \nRegister for the Workshop \n  \nCan’t make the workshop? Try a webinar! \nRegister for the Webinar \n  \nPlease note: If you can not make it to both the in-person presentation and the webinar\, please register for one or the other and we will email you the recording and the PowerPoint slides after the presentation.
URL:https://thearcofnovatrust.org/event/healthcare-what-options-are-available-for-people-with-disabilities/
LOCATION:The Arc of Northern Virginia\, 3060 Williams Drive\, Suite 300\, Fairfax\, VA\, 22031\, United States
CATEGORIES:First Fridays Futures Planning
ORGANIZER;CN="Allie Shelby":MAILTO:front.desk@thearcofnova.org
END:VEVENT
BEGIN:VEVENT
DTSTART;TZID=UTC:20180918T100000
DTEND;TZID=UTC:20180918T113000
DTSTAMP:20260420T184526
CREATED:20180604T223519Z
LAST-MODIFIED:20180604T223519Z
UID:1910-1537264800-1537270200@thearcofnovatrust.org
SUMMARY:Trust Talk Tuesday - September 18
DESCRIPTION:These group discussions will focus on Special Needs Trusts. Tia Marsili\, Director of Trusts\, The Arc of Northern Virginia\, will walk you through the importance of planning for the future of your loved one with a disability\, why trusts are important\, and other critical services and programs that you should consider. \n  \nPlease register here.
URL:https://thearcofnovatrust.org/event/trust-talk-tuesday-september-18/
LOCATION:The Arc of Northern Virginia\, 3060 Williams Drive\, Suite 300\, Fairfax\, VA\, 22031\, United States
CATEGORIES:Trust Talk Tuesday
ORGANIZER;CN="Allie Shelby":MAILTO:front.desk@thearcofnova.org
END:VEVENT
BEGIN:VEVENT
DTSTART;TZID=UTC:20180926T190000
DTEND;TZID=UTC:20180926T210000
DTSTAMP:20260420T184526
CREATED:20180823T203016Z
LAST-MODIFIED:20180823T203016Z
UID:2175-1537988400-1537995600@thearcofnovatrust.org
SUMMARY:Meet our Trustee - Key Private Bank (9/26)
DESCRIPTION:Families and individuals have the opportunity to meet our Trustee\, Key Private Bank. Come and learn more about The Arc of NOVA Trust Team’s partnership with Key Private Bank. It doesn’t matter whether you are a current trust client or if you are interested our trust program. All are welcome. RSVP is required by September 21\, 2018. Space is limited. Food and drinks will be provided. \nMeet The Trustee presentation will be held on Wed. Sept 26 evening and Thurs. Sept 27 morning. Please join us at one of these sessions. The sessions will be identical so please only register for just one of the two sessions. \n  \nPlease note: this session has reached full capacity. \n 
URL:https://thearcofnovatrust.org/event/meettrustee1/
LOCATION:The Arc of NOVA\, 2755 Hartland Rd.\, Ste 200\, Falls Church\, VA\, VA\, 22043
CATEGORIES:Upcoming Events
ORGANIZER;CN="Allie Shelby":MAILTO:front.desk@thearcofnova.org
END:VEVENT
BEGIN:VEVENT
DTSTART;TZID=UTC:20180927T100000
DTEND;TZID=UTC:20180927T120000
DTSTAMP:20260420T184526
CREATED:20180823T203213Z
LAST-MODIFIED:20180823T203213Z
UID:2178-1538042400-1538049600@thearcofnovatrust.org
SUMMARY:Meet Our Trustee - Key Private Bank (9/27)
DESCRIPTION:Families and individuals have the opportunity to meet our Trustee\, Key Private Bank. Come and learn more about The Arc of NOVA Trust Team’s partnership with Key Private Bank. It doesn’t matter whether you are a current trust client or if you are interested our trust program. All are welcome. RSVP is required by September 21\, 2018. Space is limited. Food and drinks will be provided. \nMeet The Trustee presentation will be held on Wed. Sept 26 evening and Thurs. Sept 27 morning. Please join us at one of these sessions. The sessions will be identical so please only register for just one of the two sessions. \n  \nTo register for the Thursday morning 10AM session\, please click here.
URL:https://thearcofnovatrust.org/event/meettrustee2/
LOCATION:The Arc of NOVA\, 2755 Hartland Rd.\, Ste 200\, Falls Church\, VA\, VA\, 22043
CATEGORIES:Upcoming Events
ORGANIZER;CN="Allie Shelby":MAILTO:front.desk@thearcofnova.org
END:VEVENT
END:VCALENDAR