BEGIN:VCALENDAR
VERSION:2.0
PRODID:-//Special Needs Trust Program - ECPv6.15.20//NONSGML v1.0//EN
CALSCALE:GREGORIAN
METHOD:PUBLISH
X-WR-CALNAME:Special Needs Trust Program
X-ORIGINAL-URL:https://thearcofnovatrust.org
X-WR-CALDESC:Events for Special Needs Trust Program
REFRESH-INTERVAL;VALUE=DURATION:PT1H
X-Robots-Tag:noindex
X-PUBLISHED-TTL:PT1H
BEGIN:VTIMEZONE
TZID:UTC
BEGIN:STANDARD
TZOFFSETFROM:+0000
TZOFFSETTO:+0000
TZNAME:UTC
DTSTART:20170101T000000
END:STANDARD
END:VTIMEZONE
BEGIN:VEVENT
DTSTART;TZID=UTC:20181002T100000
DTEND;TZID=UTC:20181002T113000
DTSTAMP:20260420T171441
CREATED:20180604T223622Z
LAST-MODIFIED:20180604T223622Z
UID:1912-1538474400-1538479800@thearcofnovatrust.org
SUMMARY:Trust Talk Tuesday - October 2
DESCRIPTION:These group discussions will focus on Special Needs Trusts. Tia Marsili\, Director of Trusts\, The Arc of Northern Virginia\, will walk you through the importance of planning for the future of your loved one with a disability\, why trusts are important\, and other critical services and programs that you should consider. \n  \nPlease register here.
URL:https://thearcofnovatrust.org/event/trust-talk-tuesday-october-9/
LOCATION:The Arc of Northern Virginia\, 3060 Williams Drive\, Suite 300\, Fairfax\, VA\, 22031\, United States
CATEGORIES:Trust Talk Tuesday
ORGANIZER;CN="Allie Shelby":MAILTO:front.desk@thearcofnova.org
END:VEVENT
BEGIN:VEVENT
DTSTART;TZID=UTC:20181005T100000
DTEND;TZID=UTC:20181005T120000
DTSTAMP:20260420T171441
CREATED:20180717T190610Z
LAST-MODIFIED:20180717T190610Z
UID:1983-1538733600-1538740800@thearcofnovatrust.org
SUMMARY:What Are the Challenges You Face As You Navigate the Road to Retirement?
DESCRIPTION:What Are the Challenges You Face As You Navigate the Road to Retirement? \nPresenter:  Cortney Heykoop\, Financial Services Professional\, New York Life Insurance Company \nFrom financial concerns to sound solutions\, let us talk about the challenges you face as you navigate the road toward retirement. We will break those challenges into five key points: \n1. Cost of living increases in retirement \n2. Outliving your retirement savings \n3. Taxes \n4. Expenses \n5. Expectation vs. reality. \nWe will also take a look at longevity\, surviving the loss of a spouse\, health care costs\, inflation\, and leaving a legacy—just to name a few. \n  \nRegister for the Workshop \n  \nCan’t make the workshop? Try a webinar! \nRegister for the Webinar \n  \nPlease note: If you can not make it to both the in-person presentation and the webinar\, please register for one or the other and we will email you the recording and the PowerPoint slides after the presentation.
URL:https://thearcofnovatrust.org/event/what-are-the-challenges-you-face-as-you-navigate-the-road-to-retirement/
LOCATION:The Arc of Northern Virginia\, 3060 Williams Drive\, Suite 300\, Fairfax\, VA\, 22031\, United States
CATEGORIES:First Fridays Futures Planning
ORGANIZER;CN="Allie Shelby":MAILTO:front.desk@thearcofnova.org
END:VEVENT
BEGIN:VEVENT
DTSTART;TZID=UTC:20181030T100000
DTEND;TZID=UTC:20181030T113000
DTSTAMP:20260420T171441
CREATED:20180604T223722Z
LAST-MODIFIED:20180604T223722Z
UID:1914-1540893600-1540899000@thearcofnovatrust.org
SUMMARY:Trust Talk Tuesday - October 30
DESCRIPTION:These group discussions will focus on Special Needs Trusts. Tia Marsili\, Director of Trusts\, The Arc of Northern Virginia\, will walk you through the importance of planning for the future of your loved one with a disability\, why trusts are important\, and other critical services and programs that you should consider. \n  \nPlease register here.
URL:https://thearcofnovatrust.org/event/trust-talk-tuesday-october-23/
LOCATION:The Arc of Northern Virginia\, 3060 Williams Drive\, Suite 300\, Fairfax\, VA\, 22031\, United States
CATEGORIES:Trust Talk Tuesday
ORGANIZER;CN="Allie Shelby":MAILTO:front.desk@thearcofnova.org
END:VEVENT
END:VCALENDAR