BEGIN:VCALENDAR
VERSION:2.0
PRODID:-//Special Needs Trust Program - ECPv6.15.20//NONSGML v1.0//EN
CALSCALE:GREGORIAN
METHOD:PUBLISH
X-WR-CALNAME:Special Needs Trust Program
X-ORIGINAL-URL:https://thearcofnovatrust.org
X-WR-CALDESC:Events for Special Needs Trust Program
REFRESH-INTERVAL;VALUE=DURATION:PT1H
X-Robots-Tag:noindex
X-PUBLISHED-TTL:PT1H
BEGIN:VTIMEZONE
TZID:UTC
BEGIN:STANDARD
TZOFFSETFROM:+0000
TZOFFSETTO:+0000
TZNAME:UTC
DTSTART:20170101T000000
END:STANDARD
END:VTIMEZONE
BEGIN:VEVENT
DTSTART;TZID=UTC:20181102T100000
DTEND;TZID=UTC:20181102T120000
DTSTAMP:20260420T154719
CREATED:20180717T191219Z
LAST-MODIFIED:20180717T191219Z
UID:1988-1541152800-1541160000@thearcofnovatrust.org
SUMMARY:Special Needs Planning
DESCRIPTION:Special Needs Planning \nPresenters:  Loretta Williams\, Elder Law Attorney\, Hale Ball \n              Tia Marsili\, Director of Trusts\, The Arc of Northern Virginia \nTia Marsil\, Trust Director of The Arc of Northern Virginia Special Needs Trust Program\, and her guest\, attorney Loretta Morris Williams of Hale Ball\, PLC\, will provide information on practical considerations and legal tools available to protect yourself and your loved ones in the future.  Day to day life can be overwhelming.  Take this opportunity to think ahead\, learn where to start\, and begin to break down your planning into manageable tasks \n  \nRegister for the Workshop \n  \nCan’t make the workshop? Try a webinar! \nRegister for the Webinar \n  \nPlease note: If you can not make it to both the in-person presentation and the webinar\, please register for one or the other and we will email you the recording and the PowerPoint slides after the presentation.
URL:https://thearcofnovatrust.org/event/special-needs-planning/
LOCATION:The Arc of Northern Virginia\, 3060 Williams Drive\, Suite 300\, Fairfax\, VA\, 22031\, United States
CATEGORIES:First Fridays Futures Planning
ORGANIZER;CN="Allie Shelby":MAILTO:front.desk@thearcofnova.org
END:VEVENT
BEGIN:VEVENT
DTSTART;TZID=UTC:20181113T100000
DTEND;TZID=UTC:20181113T113000
DTSTAMP:20260420T154719
CREATED:20180604T223840Z
LAST-MODIFIED:20180604T223840Z
UID:1916-1542103200-1542108600@thearcofnovatrust.org
SUMMARY:Trust Talk Tuesday - November 13
DESCRIPTION:These group discussions will focus on Special Needs Trusts. Tia Marsili\, Director of Trusts\, The Arc of Northern Virginia\, will walk you through the importance of planning for the future of your loved one with a disability\, why trusts are important\, and other critical services and programs that you should consider. \n  \nPlease register here.
URL:https://thearcofnovatrust.org/event/trust-talk-tuesday-november-13/
LOCATION:The Arc of Northern Virginia\, 3060 Williams Drive\, Suite 300\, Fairfax\, VA\, 22031\, United States
CATEGORIES:Trust Talk Tuesday
ORGANIZER;CN="Allie Shelby":MAILTO:front.desk@thearcofnova.org
END:VEVENT
BEGIN:VEVENT
DTSTART;TZID=UTC:20181120T100000
DTEND;TZID=UTC:20181120T113000
DTSTAMP:20260420T154719
CREATED:20180604T223954Z
LAST-MODIFIED:20180604T223954Z
UID:1919-1542708000-1542713400@thearcofnovatrust.org
SUMMARY:Trust Talk Tuesday - November 20
DESCRIPTION:These group discussions will focus on Special Needs Trusts. Tia Marsili\, Director of Trusts\, The Arc of Northern Virginia\, will walk you through the importance of planning for the future of your loved one with a disability\, why trusts are important\, and other critical services and programs that you should consider. \n  \nPlease register here.
URL:https://thearcofnovatrust.org/event/trust-talk-tuesday-november-20/
LOCATION:The Arc of Northern Virginia\, 3060 Williams Drive\, Suite 300\, Fairfax\, VA\, 22031\, United States
CATEGORIES:Trust Talk Tuesday
ORGANIZER;CN="Allie Shelby":MAILTO:front.desk@thearcofnova.org
END:VEVENT
END:VCALENDAR