BEGIN:VCALENDAR
VERSION:2.0
PRODID:-//Special Needs Trust Program - ECPv6.15.20//NONSGML v1.0//EN
CALSCALE:GREGORIAN
METHOD:PUBLISH
X-ORIGINAL-URL:https://thearcofnovatrust.org
X-WR-CALDESC:Events for Special Needs Trust Program
REFRESH-INTERVAL;VALUE=DURATION:PT1H
X-Robots-Tag:noindex
X-PUBLISHED-TTL:PT1H
BEGIN:VTIMEZONE
TZID:UTC
BEGIN:STANDARD
TZOFFSETFROM:+0000
TZOFFSETTO:+0000
TZNAME:UTC
DTSTART:20170101T000000
END:STANDARD
END:VTIMEZONE
BEGIN:VEVENT
DTSTART;TZID=UTC:20181207T100000
DTEND;TZID=UTC:20181207T120000
DTSTAMP:20260420T142757
CREATED:20180717T191408Z
LAST-MODIFIED:20180717T191408Z
UID:1990-1544176800-1544184000@thearcofnovatrust.org
SUMMARY:Social Security: The Application and Appeal Process for SSI and SSDI
DESCRIPTION:Social Security: The Application and Appeal Process for SSI and SSDI \nPresenter: Derek Cervoni\, Cervoni Disability Law\, PLLC \nComprehending the intricate web of public benefits available to people with disabilities is difficult. In this presentation\, learn how and when to apply for adult disability (SSI and/or SSDI)\, what to do if you have to appeal a decision to deny benefits\, and how to leverage your benefits once you start receiving them. \n  \nRegister for the Workshop \n  \nCan’t make the workshop? Try a webinar! \nRegister for the Webinar \n  \nGood news! All of our FFFP presentations are recorded. So if you cannot attend the in-person session nor the webinar\, please register for the webinar so that we may have your email address on file. We will email you a link to download and watch the recording after the presentation has ended.
URL:https://thearcofnovatrust.org/event/social-security-the-application-and-appeal-process-for-ssi-and-ssdi/
LOCATION:The Arc of Northern Virginia\, 3060 Williams Drive\, Suite 300\, Fairfax\, VA\, 22031\, United States
CATEGORIES:First Fridays Futures Planning
ORGANIZER;CN="Allie Shelby":MAILTO:front.desk@thearcofnova.org
END:VEVENT
BEGIN:VEVENT
DTSTART;TZID=UTC:20181211T100000
DTEND;TZID=UTC:20181211T113000
DTSTAMP:20260420T142757
CREATED:20180604T224143Z
LAST-MODIFIED:20180604T224143Z
UID:1921-1544522400-1544527800@thearcofnovatrust.org
SUMMARY:Trust Talk Tuesday - December 11
DESCRIPTION:These group discussions will focus on Special Needs Trusts. Tia Marsili\, Director of Trusts\, The Arc of Northern Virginia\, will walk you through the importance of planning for the future of your loved one with a disability\, why trusts are important\, and other critical services and programs that you should consider. \n  \nPlease register here.
URL:https://thearcofnovatrust.org/event/trust-talk-tuesday-december-11/
LOCATION:The Arc of Northern Virginia\, 3060 Williams Drive\, Suite 300\, Fairfax\, VA\, 22031\, United States
CATEGORIES:Trust Talk Tuesday
ORGANIZER;CN="Allie Shelby":MAILTO:front.desk@thearcofnova.org
END:VEVENT
END:VCALENDAR