BEGIN:VCALENDAR
VERSION:2.0
PRODID:-//Special Needs Trust Program - ECPv6.15.20//NONSGML v1.0//EN
CALSCALE:GREGORIAN
METHOD:PUBLISH
X-ORIGINAL-URL:https://thearcofnovatrust.org
X-WR-CALDESC:Events for Special Needs Trust Program
REFRESH-INTERVAL;VALUE=DURATION:PT1H
X-Robots-Tag:noindex
X-PUBLISHED-TTL:PT1H
BEGIN:VTIMEZONE
TZID:America/New_York
BEGIN:DAYLIGHT
TZOFFSETFROM:-0500
TZOFFSETTO:-0400
TZNAME:EDT
DTSTART:20180311T070000
END:DAYLIGHT
BEGIN:STANDARD
TZOFFSETFROM:-0400
TZOFFSETTO:-0500
TZNAME:EST
DTSTART:20181104T060000
END:STANDARD
BEGIN:DAYLIGHT
TZOFFSETFROM:-0500
TZOFFSETTO:-0400
TZNAME:EDT
DTSTART:20190310T070000
END:DAYLIGHT
BEGIN:STANDARD
TZOFFSETFROM:-0400
TZOFFSETTO:-0500
TZNAME:EST
DTSTART:20191103T060000
END:STANDARD
BEGIN:DAYLIGHT
TZOFFSETFROM:-0500
TZOFFSETTO:-0400
TZNAME:EDT
DTSTART:20200308T070000
END:DAYLIGHT
BEGIN:STANDARD
TZOFFSETFROM:-0400
TZOFFSETTO:-0500
TZNAME:EST
DTSTART:20201101T060000
END:STANDARD
END:VTIMEZONE
BEGIN:VEVENT
DTSTART;TZID=America/New_York:20190104T100000
DTEND;TZID=America/New_York:20190104T120000
DTSTAMP:20260420T125546
CREATED:20181107T185423Z
LAST-MODIFIED:20181107T185423Z
UID:2382-1546596000-1546603200@thearcofnovatrust.org
SUMMARY:CANCELLED - VA DARS\, Ticket to Work partnership Plus\, 1619B\, and Medicaid Works
DESCRIPTION:Please note this presentation is cancelled. \n  \nVA DARS\, Ticket to Work Partnership Plus\, 1619B\, and Medicaid Works \nPresenter: David Leon\, Ticket to Work Manager\, VA DARS \nThe Ticket to Work and Self-Sufficiency program (TTW) was designed to both increase investment in return-to-work services\, and improves the efficiency of that investment in meeting the needs of beneficiaries. The program offers beneficiaries more choice in obtaining services and gives employment-support service providers new financial incentives to serve beneficiaries effectively.  (Ticket to Work at the Crossroads: A Solid Foundation with an Uncertain Future) Utilizing the Ticket to Work and Partnership Plus creates additional resources for State Vocational Rehabilitation Agency (SVRA) clients and service providers.  People with disabilities are considerably more likely to experience poverty relative to those without disabilities. The Ticket to Work program is a path out of poverty! \nThe objective of this session is to present an overview of Vocational Rehabilitation and points of contact for each DSS office\, provide functional definitions of Ticket to Work and Partnership Plus\, and describe the Virginia Model. \n 
URL:https://thearcofnovatrust.org/event/va-dars-ticket-to-work-partnership-plus-1619b-and-medicaid-works/
LOCATION:The Arc of NOVA\, 2755 Hartland Rd.\, Ste 200\, Falls Church\, VA\, VA\, 22043
CATEGORIES:First Fridays Futures Planning
ORGANIZER;CN="Allie Shelby":MAILTO:front.desk@thearcofnova.org
END:VEVENT
BEGIN:VEVENT
DTSTART;TZID=America/New_York:20190108T100000
DTEND;TZID=America/New_York:20190108T233000
DTSTAMP:20260420T125546
CREATED:20181211T153322Z
LAST-MODIFIED:20181211T153322Z
UID:2408-1546941600-1546990200@thearcofnovatrust.org
SUMMARY:Trust Talk Tuesday - January 8
DESCRIPTION:These group discussions will focus on Special Needs Trusts. Tia Marsili\, Director of Trusts\, The Arc of Northern Virginia\, will walk you through the importance of planning for the future of your loved one with a disability\, why trusts are important\, and other critical services and programs that you should consider. \n  \nPlease register here.
URL:https://thearcofnovatrust.org/event/trust-talk-tuesday-january-8/
LOCATION:The Arc of NOVA\, 2755 Hartland Rd.\, Ste 200\, Falls Church\, VA\, VA\, 22043
CATEGORIES:Trust Talk Tuesday
ORGANIZER;CN="Allie Shelby":MAILTO:front.desk@thearcofnova.org
END:VEVENT
BEGIN:VEVENT
DTSTART;TZID=America/New_York:20190122T100000
DTEND;TZID=America/New_York:20190122T233000
DTSTAMP:20260420T125546
CREATED:20181211T153529Z
LAST-MODIFIED:20181211T153529Z
UID:2410-1548151200-1548199800@thearcofnovatrust.org
SUMMARY:Trust Talk Tuesday - January 22
DESCRIPTION:These group discussions will focus on Special Needs Trusts. Tia Marsili\, Director of Trusts\, The Arc of Northern Virginia\, will walk you through the importance of planning for the future of your loved one with a disability\, why trusts are important\, and other critical services and programs that you should consider. \n  \nPlease register here.
URL:https://thearcofnovatrust.org/event/trust-talk-tuesday-january-22/
LOCATION:The Arc of NOVA\, 2755 Hartland Rd.\, Ste 200\, Falls Church\, VA\, VA\, 22043
CATEGORIES:Trust Talk Tuesday
ORGANIZER;CN="Allie Shelby":MAILTO:front.desk@thearcofnova.org
END:VEVENT
END:VCALENDAR